BEGIN:VCALENDAR
VERSION:2.0
PRODID:-//FAUNA - ECPv6.9.1//NONSGML v1.0//EN
CALSCALE:GREGORIAN
METHOD:PUBLISH
X-WR-CALNAME:FAUNA
X-ORIGINAL-URL:https://www.npfauna.org
X-WR-CALDESC:Events for FAUNA
REFRESH-INTERVAL;VALUE=DURATION:PT1H
X-Robots-Tag:noindex
X-PUBLISHED-TTL:PT1H
BEGIN:VTIMEZONE
TZID:America/Chicago
BEGIN:DAYLIGHT
TZOFFSETFROM:-0600
TZOFFSETTO:-0500
TZNAME:CDT
DTSTART:20250309T080000
END:DAYLIGHT
BEGIN:STANDARD
TZOFFSETFROM:-0500
TZOFFSETTO:-0600
TZNAME:CST
DTSTART:20251102T070000
END:STANDARD
END:VTIMEZONE
BEGIN:VEVENT
DTSTART;TZID=America/Chicago:20251011T090000
DTEND;TZID=America/Chicago:20251011T130000
DTSTAMP:20260419T200154
CREATED:20250812T214427Z
LAST-MODIFIED:20250812T214427Z
UID:763-1760173200-1760187600@www.npfauna.org
SUMMARY:FAUNA Bath Day
DESCRIPTION:Come support FAUNA and give your dog a spa treatment!  \nBaths are $10 under 60lbs and $15 for over 60lbs. \nNail trimming is $20 and anal glands check is $10. 
URL:https://www.npfauna.org/event/fauna-bath-day-2/
LOCATION:Tractor Supply\, 345 South Drive\, Natchitoches\, LA\, 71457\, United States
ORGANIZER;CN="FAUNA":MAILTO:npfauna@gmail.com
END:VEVENT
BEGIN:VEVENT
DTSTART;TZID=America/Chicago:20251015T180000
DTEND;TZID=America/Chicago:20251015T210000
DTSTAMP:20260419T200154
CREATED:20250713T232517Z
LAST-MODIFIED:20250908T033325Z
UID:731-1760551200-1760562000@www.npfauna.org
SUMMARY:Farm to Table Dinner
DESCRIPTION:Date: Wednesday\, October 15\, 2025Time: 6:00 PM – 9:00 PMLocation: Mariner’s Restaurant | 5948 Highway 1 Bypass\, Natchitoches\, LA 71457 \nJoin us for an unforgettable evening of fresh flavors and compassionate giving at FAUNA’s Farm to Table Dinner — a one-night-only culinary experience that supports our mission of rescuing\, rehabilitating\, and rehoming Natchitoches Parish animals. \nHosted at the beautiful Mariner’s Restaurant overlooking Sibley Lake\, this elegant dinner will feature a curated menu highlighting the best of local farms and seasonal ingredients. Guests will enjoy live music\, wine pairings\, and the opportunity to hear heartwarming rescue stories made possible by your support. \nAll proceeds benefit FAUNA’s lifesaving programs\, including transport\, medical care\, and community outreach. Limited seating available. \nReserve your spot and help us create a better future for animals in our parish \nDownload the 2025 Farm to Table Brochure/Registration  \nClick here to reserve your seat on Eventbrite
URL:https://www.npfauna.org/event/farm-to-table/
LOCATION:Mariner’s Restaurant\, 5948 Highway 1 Bypass\, Natchitoches\, LA\, 71457\, United States
END:VEVENT
END:VCALENDAR