BEGIN:VCALENDAR
VERSION:2.0
PRODID:-//FAUNA - ECPv6.9.1//NONSGML v1.0//EN
CALSCALE:GREGORIAN
METHOD:PUBLISH
X-WR-CALNAME:FAUNA
X-ORIGINAL-URL:https://www.npfauna.org
X-WR-CALDESC:Events for FAUNA
REFRESH-INTERVAL;VALUE=DURATION:PT1H
X-Robots-Tag:noindex
X-PUBLISHED-TTL:PT1H
BEGIN:VTIMEZONE
TZID:America/Chicago
BEGIN:DAYLIGHT
TZOFFSETFROM:-0600
TZOFFSETTO:-0500
TZNAME:CDT
DTSTART:20260308T080000
END:DAYLIGHT
BEGIN:STANDARD
TZOFFSETFROM:-0500
TZOFFSETTO:-0600
TZNAME:CST
DTSTART:20261101T070000
END:STANDARD
END:VTIMEZONE
BEGIN:VEVENT
DTSTART;TZID=America/Chicago:20260214T140000
DTEND;TZID=America/Chicago:20260214T160000
DTSTAMP:20260420T004812
CREATED:20250907T180933Z
LAST-MODIFIED:20250907T180933Z
UID:795-1771077600-1771084800@www.npfauna.org
SUMMARY:Krewe of Waguns Pet & Children's Parade
DESCRIPTION:Get ready for a tail-wagging good time! The Krewe of Waguns Children & Pet Parade is set to roll through downtown Natchitoches on Saturday\, Februyary 14\, 2026 at 3 PM. This family-friendly Mardi Gras parade invites children\, pets\, and floats to join in the festivities. \nEvent Details: \n\nRegistration: 2:00 PM\nParade Line-Up: 2:45 PM at Bank of Montgomery (814 Washington Street)\nParade Route:\n\nStart at Bank of Montgomery\nHead south on Front Street to Touline Street\nTurn left to the downtown riverbank stage\n\n\n\nEntry Fee: $10.00 per family \nSpecial Highlights: \n\nRegister your pet for a chance to earn “Celebrity Status” as King Rex Rufus or Queen Mutt A Gras.\nAwards will be given for Best Dressed Pet Costume\, Children’s Costume\, and Float (1st\, 2nd\, and 3rd place).\n\nParade Rules and Notes: \n\nGolf carts are allowed if driven by an adult.\nChildren can ride scooters\, bicycles\, or wagons but must be accompanied by an adult.\nATVs are not permitted.\nDon’t forget to BYOB (Bring Your Own Beads) to throw during the parade.\n\nCome join the fun and celebrate Mardi Gras with your furry friends\, little ones\, and festive floats!
URL:https://www.npfauna.org/event/krewe-of-waguns-pet-childrens-parade/
END:VEVENT
BEGIN:VEVENT
DTSTART;TZID=America/Chicago:20260314T160000
DTEND;TZID=America/Chicago:20260314T210000
DTSTAMP:20260420T004812
CREATED:20250812T215118Z
LAST-MODIFIED:20250812T215118Z
UID:769-1773504000-1773522000@www.npfauna.org
SUMMARY:St. Patrick's Day Pub Crawl (by FAUNA)
DESCRIPTION:Come join us for a night of fun at the 10th Annual St. Patrick’s Day Pub Crawl hosted by FAUNA!\n\nGet ready to hop between restaurants\, bars\, and shops in Historic downtown Natchitoches\, LA and enjoy great drink specials\, music\, shopping and company.\n\nVisit all the stops on the “Poker Run” to fill out your card for a change to win a big screen TV\, and join in the costume contest\, as well.\n\nDon’t miss out on a great way to have fun and support local rescue animals – see you there!\n\nT-shirt included with registration.\n\n*Event takes place rain or shine.
URL:https://www.npfauna.org/event/st-patricks-day-pub-crawl-by-fauna/
ORGANIZER;CN="FAUNA":MAILTO:npfauna@gmail.com
END:VEVENT
END:VCALENDAR