BEGIN:VCALENDAR
VERSION:2.0
PRODID:-//FAUNA - ECPv6.9.1//NONSGML v1.0//EN
CALSCALE:GREGORIAN
METHOD:PUBLISH
X-WR-CALNAME:FAUNA
X-ORIGINAL-URL:https://www.npfauna.org
X-WR-CALDESC:Events for FAUNA
REFRESH-INTERVAL;VALUE=DURATION:PT1H
X-Robots-Tag:noindex
X-PUBLISHED-TTL:PT1H
BEGIN:VTIMEZONE
TZID:America/Chicago
BEGIN:DAYLIGHT
TZOFFSETFROM:-0600
TZOFFSETTO:-0500
TZNAME:CDT
DTSTART:20250309T080000
END:DAYLIGHT
BEGIN:STANDARD
TZOFFSETFROM:-0500
TZOFFSETTO:-0600
TZNAME:CST
DTSTART:20251102T070000
END:STANDARD
END:VTIMEZONE
BEGIN:VEVENT
DTSTART;TZID=America/Chicago:20250315T160000
DTEND;TZID=America/Chicago:20250315T220000
DTSTAMP:20260420T085837
CREATED:20250127T235445Z
LAST-MODIFIED:20250127T235445Z
UID:384-1742054400-1742076000@www.npfauna.org
SUMMARY:St. Patrick's Day Pub Crawl Hosted by FAUNA
DESCRIPTION:  \n \nCome join us for a night of fun at the 10th Annual St. Patrick’s Day Pub Crawl hosted by FAUNA! Get ready to hop between restuarants\, bars\, and shops in Historic downtown Natchitoches\, LA and enjoy great drink specials\, music\, shopping and company. Visit all the stops on the “Poker Run” to fill out your card for a change to win a big screen TV\, and join in the costume contest as well. Don’t miss out on a great way to have fun and support local rescue animals – see you there! T-shirt included with registration. *Event takes place rain or shine.\nRegister HERE
URL:https://www.npfauna.org/event/st-patricks-day-pub-crawl-hosted-by-fauna/
LOCATION:Historic Downtown Natchitoches\, LA\, Front St & Church St.\, Natchitoches\, LA\, 71457\, United States
END:VEVENT
END:VCALENDAR